BEGIN:VCALENDAR
VERSION:2.0
PRODID:-//PCE - LON - ECPv6.15.11//NONSGML v1.0//EN
CALSCALE:GREGORIAN
METHOD:PUBLISH
X-WR-CALNAME:PCE - LON
X-ORIGINAL-URL:https://pce-lon.bf
X-WR-CALDESC:Évènements pour PCE - LON
REFRESH-INTERVAL;VALUE=DURATION:PT1H
X-Robots-Tag:noindex
X-PUBLISHED-TTL:PT1H
BEGIN:VTIMEZONE
TZID:UTC
BEGIN:STANDARD
TZOFFSETFROM:+0000
TZOFFSETTO:+0000
TZNAME:UTC
DTSTART:20250101T000000
END:STANDARD
END:VTIMEZONE
BEGIN:VEVENT
DTSTART;TZID=UTC:20260223T080000
DTEND;TZID=UTC:20260424T170000
DTSTAMP:20260420T210244
CREATED:20251010T111119Z
LAST-MODIFIED:20260202T095714Z
UID:2098-1771833600-1777050000@pce-lon.bf
SUMMARY:Atelier sur la sauvegarde environnementale et sociale
DESCRIPTION:
URL:https://pce-lon.bf/event/atelier-sur-la-sauvegarde-environnementale-et-sociale/
LOCATION:Salle de réunion de l’immeuble SAAHAD\, 1200 Logements\, Ouagadougou\, Ouagadougou\, Burkina Faso
CATEGORIES:event
ATTACH;FMTTYPE=image/jpeg:https://pce-lon.bf/wp-content/uploads/2025/10/Group-2realisation-scaled.jpg
ORGANIZER;CN="PCE - LON":MAILTO:info@pce-lon.pf
END:VEVENT
END:VCALENDAR